BEGIN:VCALENDAR
VERSION:2.0
PRODID:-//The Latina Center - ECPv6.15.20//NONSGML v1.0//EN
CALSCALE:GREGORIAN
METHOD:PUBLISH
X-WR-CALNAME:The Latina Center
X-ORIGINAL-URL:https://thelatinacenter.org
X-WR-CALDESC:Events for The Latina Center
REFRESH-INTERVAL;VALUE=DURATION:PT1H
X-Robots-Tag:noindex
X-PUBLISHED-TTL:PT1H
BEGIN:VTIMEZONE
TZID:America/Los_Angeles
BEGIN:DAYLIGHT
TZOFFSETFROM:-0800
TZOFFSETTO:-0700
TZNAME:PDT
DTSTART:20230312T100000
END:DAYLIGHT
BEGIN:STANDARD
TZOFFSETFROM:-0700
TZOFFSETTO:-0800
TZNAME:PST
DTSTART:20231105T090000
END:STANDARD
BEGIN:DAYLIGHT
TZOFFSETFROM:-0800
TZOFFSETTO:-0700
TZNAME:PDT
DTSTART:20240310T100000
END:DAYLIGHT
BEGIN:STANDARD
TZOFFSETFROM:-0700
TZOFFSETTO:-0800
TZNAME:PST
DTSTART:20241103T090000
END:STANDARD
BEGIN:DAYLIGHT
TZOFFSETFROM:-0800
TZOFFSETTO:-0700
TZNAME:PDT
DTSTART:20250309T100000
END:DAYLIGHT
BEGIN:STANDARD
TZOFFSETFROM:-0700
TZOFFSETTO:-0800
TZNAME:PST
DTSTART:20251102T090000
END:STANDARD
END:VTIMEZONE
BEGIN:VEVENT
DTSTART;TZID=America/Los_Angeles:20240118T180000
DTEND;TZID=America/Los_Angeles:20240118T210000
DTSTAMP:20260424T084120
CREATED:20240110T021054Z
LAST-MODIFIED:20240111T024552Z
UID:1733-1705600800-1705611600@thelatinacenter.org
SUMMARY:Women's Empowerment Class (Series)
DESCRIPTION:Our Women’s Empowerment Series\, supported by our Microenterprise Program at The Latina Center\, is a transformative experience designed for Latina women looking to cultivate their inner strength and leadership. Throughout these six weeks\, we will explore fundamental topics ranging from self-esteem to time management and finances\, with the goal of unleashing the spirit of improvement and entrepreneurial desire in each participant. \nDuring this class\, we will address key issues that impact the lives of Latina women\, providing practical tools to strengthen self-esteem and self-knowledge. Effective management of time and finances will be a central focus\, empowering participants to make informed and strategic decisions in their daily lives and\, eventually\, in their future endeavors. \nAn essential component of this class is the creation of a vision board. This exercise will allow each participant to visualize their short\, medium and long-term goals in a tangible and meaningful way\, promoting the desire to be the owner of their own income and achieve personal and professional success. \nJoin us on this exciting journey of self-discovery and empowerment. We are committed to providing a space where Latina women not only grow\, but also flourish and become strong leaders and visionaries in their lives and communities. We hope you join this community of empowered women! \nInstructor: Susana Gama \nDuration: 6 weeks\nStart: 1/18/24\nCompletion: 2/22/24\nHours: 6:00 to 9:00 pm on Thursdays\nPartners: Renaissance Richmond\, The Latina Center\, California Commission on the Status of Women\, Chevron \nImportant to be able to participate: \n\nInterest form – Complete it if it is your first time participating in our class: https://bit.ly/3OnVeKV\nIf you already have an account on the Renaissance Richmond portal\, use this Registration link: https://bit.ly/3sYtZ32\nIf you know more women who want to undertake and begin a training process\, share this information.\n\nView Flier on Facebook
URL:https://thelatinacenter.org/calendar/womens-empowerment-class-series/
CATEGORIES:Microenterprise
ATTACH;FMTTYPE=image/jpeg:https://thelatinacenter.org/wp-content/uploads/2024/01/TLC_ME_ClaseEmpodFemenino_1.18.24_WebImage.jpg
ORGANIZER;CN="The Latina Center":MAILTO:gruiz@thelatinacenter.org
END:VEVENT
BEGIN:VEVENT
DTSTART;TZID=America/Los_Angeles:20240118T180000
DTEND;TZID=America/Los_Angeles:20240118T210000
DTSTAMP:20260424T084120
CREATED:20240110T021054Z
LAST-MODIFIED:20240111T024552Z
UID:1733-1705600800-1705611600@thelatinacenter.org
SUMMARY:Women's Empowerment Class (Series)
DESCRIPTION:Our Women’s Empowerment Series\, supported by our Microenterprise Program at The Latina Center\, is a transformative experience designed for Latina women looking to cultivate their inner strength and leadership. Throughout these six weeks\, we will explore fundamental topics ranging from self-esteem to time management and finances\, with the goal of unleashing the spirit of improvement and entrepreneurial desire in each participant. \nDuring this class\, we will address key issues that impact the lives of Latina women\, providing practical tools to strengthen self-esteem and self-knowledge. Effective management of time and finances will be a central focus\, empowering participants to make informed and strategic decisions in their daily lives and\, eventually\, in their future endeavors. \nAn essential component of this class is the creation of a vision board. This exercise will allow each participant to visualize their short\, medium and long-term goals in a tangible and meaningful way\, promoting the desire to be the owner of their own income and achieve personal and professional success. \nJoin us on this exciting journey of self-discovery and empowerment. We are committed to providing a space where Latina women not only grow\, but also flourish and become strong leaders and visionaries in their lives and communities. We hope you join this community of empowered women! \nInstructor: Susana Gama \nDuration: 6 weeks\nStart: 1/18/24\nCompletion: 2/22/24\nHours: 6:00 to 9:00 pm on Thursdays\nPartners: Renaissance Richmond\, The Latina Center\, California Commission on the Status of Women\, Chevron \nImportant to be able to participate: \n\nInterest form – Complete it if it is your first time participating in our class: https://bit.ly/3OnVeKV\nIf you already have an account on the Renaissance Richmond portal\, use this Registration link: https://bit.ly/3sYtZ32\nIf you know more women who want to undertake and begin a training process\, share this information.\n\nView Flier on Facebook
URL:https://thelatinacenter.org/calendar/womens-empowerment-class-series/
CATEGORIES:Microenterprise
ATTACH;FMTTYPE=image/jpeg:https://thelatinacenter.org/wp-content/uploads/2024/01/TLC_ME_ClaseEmpodFemenino_1.18.24_WebImage.jpg
ORGANIZER;CN="The Latina Center":MAILTO:gruiz@thelatinacenter.org
END:VEVENT
BEGIN:VEVENT
DTSTART;TZID=America/Los_Angeles:20240118T180000
DTEND;TZID=America/Los_Angeles:20240118T210000
DTSTAMP:20260424T084120
CREATED:20240110T021054Z
LAST-MODIFIED:20240111T024552Z
UID:1733-1705600800-1705611600@thelatinacenter.org
SUMMARY:Women's Empowerment Class (Series)
DESCRIPTION:Our Women’s Empowerment Series\, supported by our Microenterprise Program at The Latina Center\, is a transformative experience designed for Latina women looking to cultivate their inner strength and leadership. Throughout these six weeks\, we will explore fundamental topics ranging from self-esteem to time management and finances\, with the goal of unleashing the spirit of improvement and entrepreneurial desire in each participant. \nDuring this class\, we will address key issues that impact the lives of Latina women\, providing practical tools to strengthen self-esteem and self-knowledge. Effective management of time and finances will be a central focus\, empowering participants to make informed and strategic decisions in their daily lives and\, eventually\, in their future endeavors. \nAn essential component of this class is the creation of a vision board. This exercise will allow each participant to visualize their short\, medium and long-term goals in a tangible and meaningful way\, promoting the desire to be the owner of their own income and achieve personal and professional success. \nJoin us on this exciting journey of self-discovery and empowerment. We are committed to providing a space where Latina women not only grow\, but also flourish and become strong leaders and visionaries in their lives and communities. We hope you join this community of empowered women! \nInstructor: Susana Gama \nDuration: 6 weeks\nStart: 1/18/24\nCompletion: 2/22/24\nHours: 6:00 to 9:00 pm on Thursdays\nPartners: Renaissance Richmond\, The Latina Center\, California Commission on the Status of Women\, Chevron \nImportant to be able to participate: \n\nInterest form – Complete it if it is your first time participating in our class: https://bit.ly/3OnVeKV\nIf you already have an account on the Renaissance Richmond portal\, use this Registration link: https://bit.ly/3sYtZ32\nIf you know more women who want to undertake and begin a training process\, share this information.\n\nView Flier on Facebook
URL:https://thelatinacenter.org/calendar/womens-empowerment-class-series/
CATEGORIES:Microenterprise
ATTACH;FMTTYPE=image/jpeg:https://thelatinacenter.org/wp-content/uploads/2024/01/TLC_ME_ClaseEmpodFemenino_1.18.24_WebImage.jpg
ORGANIZER;CN="The Latina Center":MAILTO:gruiz@thelatinacenter.org
END:VEVENT
BEGIN:VEVENT
DTSTART;TZID=America/Los_Angeles:20240118T180000
DTEND;TZID=America/Los_Angeles:20240118T210000
DTSTAMP:20260424T084120
CREATED:20240110T021054Z
LAST-MODIFIED:20240111T024552Z
UID:1733-1705600800-1705611600@thelatinacenter.org
SUMMARY:Women's Empowerment Class (Series)
DESCRIPTION:Our Women’s Empowerment Series\, supported by our Microenterprise Program at The Latina Center\, is a transformative experience designed for Latina women looking to cultivate their inner strength and leadership. Throughout these six weeks\, we will explore fundamental topics ranging from self-esteem to time management and finances\, with the goal of unleashing the spirit of improvement and entrepreneurial desire in each participant. \nDuring this class\, we will address key issues that impact the lives of Latina women\, providing practical tools to strengthen self-esteem and self-knowledge. Effective management of time and finances will be a central focus\, empowering participants to make informed and strategic decisions in their daily lives and\, eventually\, in their future endeavors. \nAn essential component of this class is the creation of a vision board. This exercise will allow each participant to visualize their short\, medium and long-term goals in a tangible and meaningful way\, promoting the desire to be the owner of their own income and achieve personal and professional success. \nJoin us on this exciting journey of self-discovery and empowerment. We are committed to providing a space where Latina women not only grow\, but also flourish and become strong leaders and visionaries in their lives and communities. We hope you join this community of empowered women! \nInstructor: Susana Gama \nDuration: 6 weeks\nStart: 1/18/24\nCompletion: 2/22/24\nHours: 6:00 to 9:00 pm on Thursdays\nPartners: Renaissance Richmond\, The Latina Center\, California Commission on the Status of Women\, Chevron \nImportant to be able to participate: \n\nInterest form – Complete it if it is your first time participating in our class: https://bit.ly/3OnVeKV\nIf you already have an account on the Renaissance Richmond portal\, use this Registration link: https://bit.ly/3sYtZ32\nIf you know more women who want to undertake and begin a training process\, share this information.\n\nView Flier on Facebook
URL:https://thelatinacenter.org/calendar/womens-empowerment-class-series/
CATEGORIES:Microenterprise
ATTACH;FMTTYPE=image/jpeg:https://thelatinacenter.org/wp-content/uploads/2024/01/TLC_ME_ClaseEmpodFemenino_1.18.24_WebImage.jpg
ORGANIZER;CN="The Latina Center":MAILTO:gruiz@thelatinacenter.org
END:VEVENT
BEGIN:VEVENT
DTSTART;TZID=America/Los_Angeles:20240118T180000
DTEND;TZID=America/Los_Angeles:20240118T210000
DTSTAMP:20260424T084120
CREATED:20240110T021054Z
LAST-MODIFIED:20240111T024552Z
UID:1733-1705600800-1705611600@thelatinacenter.org
SUMMARY:Women's Empowerment Class (Series)
DESCRIPTION:Our Women’s Empowerment Series\, supported by our Microenterprise Program at The Latina Center\, is a transformative experience designed for Latina women looking to cultivate their inner strength and leadership. Throughout these six weeks\, we will explore fundamental topics ranging from self-esteem to time management and finances\, with the goal of unleashing the spirit of improvement and entrepreneurial desire in each participant. \nDuring this class\, we will address key issues that impact the lives of Latina women\, providing practical tools to strengthen self-esteem and self-knowledge. Effective management of time and finances will be a central focus\, empowering participants to make informed and strategic decisions in their daily lives and\, eventually\, in their future endeavors. \nAn essential component of this class is the creation of a vision board. This exercise will allow each participant to visualize their short\, medium and long-term goals in a tangible and meaningful way\, promoting the desire to be the owner of their own income and achieve personal and professional success. \nJoin us on this exciting journey of self-discovery and empowerment. We are committed to providing a space where Latina women not only grow\, but also flourish and become strong leaders and visionaries in their lives and communities. We hope you join this community of empowered women! \nInstructor: Susana Gama \nDuration: 6 weeks\nStart: 1/18/24\nCompletion: 2/22/24\nHours: 6:00 to 9:00 pm on Thursdays\nPartners: Renaissance Richmond\, The Latina Center\, California Commission on the Status of Women\, Chevron \nImportant to be able to participate: \n\nInterest form – Complete it if it is your first time participating in our class: https://bit.ly/3OnVeKV\nIf you already have an account on the Renaissance Richmond portal\, use this Registration link: https://bit.ly/3sYtZ32\nIf you know more women who want to undertake and begin a training process\, share this information.\n\nView Flier on Facebook
URL:https://thelatinacenter.org/calendar/womens-empowerment-class-series/
CATEGORIES:Microenterprise
ATTACH;FMTTYPE=image/jpeg:https://thelatinacenter.org/wp-content/uploads/2024/01/TLC_ME_ClaseEmpodFemenino_1.18.24_WebImage.jpg
ORGANIZER;CN="The Latina Center":MAILTO:gruiz@thelatinacenter.org
END:VEVENT
BEGIN:VEVENT
DTSTART;TZID=America/Los_Angeles:20240118T180000
DTEND;TZID=America/Los_Angeles:20240118T210000
DTSTAMP:20260424T084120
CREATED:20240110T021054Z
LAST-MODIFIED:20240111T024552Z
UID:1733-1705600800-1705611600@thelatinacenter.org
SUMMARY:Women's Empowerment Class (Series)
DESCRIPTION:Our Women’s Empowerment Series\, supported by our Microenterprise Program at The Latina Center\, is a transformative experience designed for Latina women looking to cultivate their inner strength and leadership. Throughout these six weeks\, we will explore fundamental topics ranging from self-esteem to time management and finances\, with the goal of unleashing the spirit of improvement and entrepreneurial desire in each participant. \nDuring this class\, we will address key issues that impact the lives of Latina women\, providing practical tools to strengthen self-esteem and self-knowledge. Effective management of time and finances will be a central focus\, empowering participants to make informed and strategic decisions in their daily lives and\, eventually\, in their future endeavors. \nAn essential component of this class is the creation of a vision board. This exercise will allow each participant to visualize their short\, medium and long-term goals in a tangible and meaningful way\, promoting the desire to be the owner of their own income and achieve personal and professional success. \nJoin us on this exciting journey of self-discovery and empowerment. We are committed to providing a space where Latina women not only grow\, but also flourish and become strong leaders and visionaries in their lives and communities. We hope you join this community of empowered women! \nInstructor: Susana Gama \nDuration: 6 weeks\nStart: 1/18/24\nCompletion: 2/22/24\nHours: 6:00 to 9:00 pm on Thursdays\nPartners: Renaissance Richmond\, The Latina Center\, California Commission on the Status of Women\, Chevron \nImportant to be able to participate: \n\nInterest form – Complete it if it is your first time participating in our class: https://bit.ly/3OnVeKV\nIf you already have an account on the Renaissance Richmond portal\, use this Registration link: https://bit.ly/3sYtZ32\nIf you know more women who want to undertake and begin a training process\, share this information.\n\nView Flier on Facebook
URL:https://thelatinacenter.org/calendar/womens-empowerment-class-series/
CATEGORIES:Microenterprise
ATTACH;FMTTYPE=image/jpeg:https://thelatinacenter.org/wp-content/uploads/2024/01/TLC_ME_ClaseEmpodFemenino_1.18.24_WebImage.jpg
ORGANIZER;CN="The Latina Center":MAILTO:gruiz@thelatinacenter.org
END:VEVENT
END:VCALENDAR